BEGIN:VCALENDAR
VERSION:2.0
PRODID:-//bgcsac.org//NONSGML kigkonsult.se iCalcreator 2.30.10//
CALSCALE:GREGORIAN
METHOD:PUBLISH
UID:631bf2d0-0339-474e-a754-11e6eef2b1b4
X-WR-CALDESC:3 on 3 Winter Ball Basketball Tournament for teens! Open to Cl
 ub Members. If you are not a Club Member\, complete a registration form to
  play.
X-WR-RELCALID:90428cf44dc01aa783f0b754656d3b8c
X-WR-TIMEZONE:America/Los_Angeles
BEGIN:VTIMEZONE
TZID:America/Los_Angeles
BEGIN:STANDARD
TZNAME:PST
DTSTART:20161106T020000
TZOFFSETFROM:-0700
TZOFFSETTO:-0800
RDATE:20171105T020000
END:STANDARD
BEGIN:DAYLIGHT
TZNAME:PDT
DTSTART:20160313T020000
TZOFFSETFROM:-0800
TZOFFSETTO:-0700
RDATE:20170312T020000
RDATE:20180311T020000
END:DAYLIGHT
END:VTIMEZONE
BEGIN:VEVENT
UID:ccbe14af-4238-441f-909d-d802de5ddfcd
DTSTAMP:20260420T183701Z
DESCRIPTION:3 on 3 Winter Ball Basketball Tournament for teens! Open to Clu
 b Members. If you are not a Club Member\, complete a registration form to 
 play.
DTSTART;TZID=America/Los_Angeles:20161210T110000
DTEND;TZID=America/Los_Angeles:20161210T170000
LOCATION:Raley Teen Center- 1117 G Street
SUMMARY:3 on 3 Winter Ball Basketball Tournament
END:VEVENT
END:VCALENDAR
