BEGIN:VCALENDAR
VERSION:2.0
PRODID:-//bgcsac.org//NONSGML kigkonsult.se iCalcreator 2.30.10//
CALSCALE:GREGORIAN
METHOD:PUBLISH
UID:af6fe0ea-40b6-418b-a04a-7b79a5d4b458
X-WR-CALDESC:All Clubs and our office will be closed for the Christmas holi
 day
X-WR-RELCALID:d299ffd1bf26ee3ece1ccf7727f13356
X-WR-TIMEZONE:America/Los_Angeles
BEGIN:VTIMEZONE
TZID:America/Los_Angeles
BEGIN:STANDARD
TZNAME:PST
DTSTART:20161106T020000
TZOFFSETFROM:-0700
TZOFFSETTO:-0800
RDATE:20171105T020000
END:STANDARD
BEGIN:DAYLIGHT
TZNAME:PDT
DTSTART:20160313T020000
TZOFFSETFROM:-0800
TZOFFSETTO:-0700
RDATE:20170312T020000
RDATE:20180311T020000
END:DAYLIGHT
END:VTIMEZONE
BEGIN:VEVENT
UID:0b7c9c30-25e8-4ae5-a161-7180d5da03b6
DTSTAMP:20260420T182329Z
DESCRIPTION:All Clubs and our office will be closed for the Christmas holid
 ay
DTSTART;TZID=America/Los_Angeles:20161224T000000
DTEND;TZID=America/Los_Angeles:20161226T235900
LOCATION:All Clubs and Administrative Office
SUMMARY:Christmas
END:VEVENT
END:VCALENDAR
