BEGIN:VCALENDAR
VERSION:2.0
PRODID:-//bgcsac.org//NONSGML kigkonsult.se iCalcreator 2.30.10//
CALSCALE:GREGORIAN
METHOD:PUBLISH
UID:595811fd-3f76-4705-b9e4-3cf672bf67e9
X-WR-CALDESC:Thank you for your interest in helping wrap gifts for our Club
  Members and families in need!\n\nEvery year community members help make t
 he holidays special by providing hundreds of gifts and necessities  to the
  members of Boys & Girls Clubs of Greater Sacramento. We need your help to
  wrap all those gifts and get them organized to distribute through our Clu
 bs. This is a great holiday project for families\, companies\, or service 
 groups who want to give back and help out! \nEach volunteer is asked to br
 ing a roll of wrapping paper. \nFun holiday sweaters and accessories encou
 raged!\nWe will provide Christmas cookies\, holiday tunes and hot cocoa an
 d cider for your enjoyment.\n\n\n\n
X-WR-RELCALID:0552703f1b9811e4f439f6fe5ce6fa3e
X-WR-TIMEZONE:America/Los_Angeles
BEGIN:VTIMEZONE
TZID:America/Los_Angeles
BEGIN:STANDARD
TZNAME:PST
DTSTART:20171105T020000
TZOFFSETFROM:-0700
TZOFFSETTO:-0800
RDATE:20181104T020000
END:STANDARD
BEGIN:DAYLIGHT
TZNAME:PDT
DTSTART:20170312T020000
TZOFFSETFROM:-0800
TZOFFSETTO:-0700
RDATE:20180311T020000
RDATE:20190310T020000
END:DAYLIGHT
END:VTIMEZONE
BEGIN:VEVENT
UID:1ac86d64-48a2-4314-84ea-1f3662dea042
DTSTAMP:20260419T235625Z
DESCRIPTION:Thank you for your interest in helping wrap gifts for our Club 
 Members and families in need!\n\nEvery year community members help make th
 e holidays special by providing hundreds of gifts and necessities  to the 
 members of Boys & Girls Clubs of Greater Sacramento. We need your help to 
 wrap all those gifts and get them organized to distribute through our Club
 s. This is a great holiday project for families\, companies\, or service g
 roups who want to give back and help out! \nEach volunteer is asked to bri
 ng a roll of wrapping paper. \nFun holiday sweaters and accessories encour
 aged!\nWe will provide Christmas cookies\, holiday tunes and hot cocoa and
  cider for your enjoyment.\n\n\n\n
DTSTART;TZID=America/Los_Angeles:20171218T180000
DTEND;TZID=America/Los_Angeles:20171218T203000
LOCATION:Teichert Branch- 5212 Lemon Hill Avenue- Sacramento 95824
SUMMARY:#2 Santa Land Gift Wrapping Party- Volunteer Event
END:VEVENT
END:VCALENDAR
